BEGIN:VCALENDAR
VERSION:2.0
PRODID:-//Squarespace Inc/Squarespace 6//v6//EN
BEGIN:VEVENT
UID:5dbc9841e928202600e4a389@squarespace.com
DTSTAMP:20191102T031000Z
DTSTART:20191111T100000Z
DTEND:20191114T230000Z
SUMMARY:Corporate Group
GEO:-37.825032;174.803921
LOCATION:Institute of Awesome\, 5 Whaanga Road\, Raglan\, New Zealand
END:VEVENT
END:VCALENDAR
