BEGIN:VCALENDAR
VERSION:2.0
PRODID:-//Squarespace Inc/Squarespace 6//v6//EN
BEGIN:VEVENT
UID:5dbc96d21ef0f16897ee4a03@squarespace.com
DTSTAMP:20191102T030941Z
DTSTART:20191103T140000Z
DTEND:20191107T150000Z
SUMMARY:Corporate Group
GEO:-37.825032;174.803921
LOCATION:Institute of Awesome\, 5 Whaanga Road\, Raglan\, New Zealand
END:VEVENT
END:VCALENDAR
