BEGIN:VCALENDAR
VERSION:2.0
PRODID:-//Squarespace Inc/Squarespace 6//v6//EN
BEGIN:VEVENT
UID:5dbcf6b56e50835ed1a2cabc@squarespace.com
DTSTAMP:20191107T223416Z
DTSTART:20200101T033000Z
DTEND:20200104T043000Z
SUMMARY:Family Science Camp (A)
END:VEVENT
END:VCALENDAR
