BEGIN:VCALENDAR
VERSION:2.0
PRODID:-//Squarespace Inc/Squarespace 6//v6//EN
BEGIN:VEVENT
UID:5dbcf46f7d73c16ddb47d36f@squarespace.com
DTSTAMP:20200107T223648Z
DTSTART:20200110T033000Z
DTEND:20200112T043000Z
SUMMARY:Solrise at Solscape
END:VEVENT
END:VCALENDAR
