BEGIN:VCALENDAR
VERSION:2.0
PRODID:-//Squarespace Inc/Squarespace 6//v6//EN
BEGIN:VEVENT
UID:5dbcf4356b4e151dedb992f7@squarespace.com
DTSTAMP:20191102T031310Z
DTSTART:20191224T033000Z
DTEND:20191231T043000Z
SUMMARY:Group Booking
END:VEVENT
END:VCALENDAR
