BEGIN:VCALENDAR
VERSION:2.0
PRODID:-//Squarespace Inc/Squarespace 6//v6//EN
BEGIN:VEVENT
UID:5dbcf3fd69d48f23f8bc538f@squarespace.com
DTSTAMP:20191102T031227Z
DTSTART:20191215T033000Z
DTEND:20191218T043000Z
SUMMARY:Group Booking
END:VEVENT
END:VCALENDAR
