BEGIN:VCALENDAR
VERSION:2.0
PRODID:-//Squarespace Inc/Squarespace 6//v6//EN
BEGIN:VEVENT
UID:5dbcf3b87743ac69524bf0c7@squarespace.com
DTSTAMP:20191102T031157Z
DTSTART:20191202T033000Z
DTEND:20191204T043000Z
SUMMARY:Group Booking
END:VEVENT
END:VCALENDAR
