BEGIN:VCALENDAR
VERSION:2.0
PRODID:-//Squarespace Inc/Squarespace 6//v6//EN
BEGIN:VEVENT
UID:5e15069291794e052b0be7a0@squarespace.com
DTSTAMP:20200107T223552Z
DTSTART:20200112T230000Z
DTEND:20200116T000000Z
SUMMARY:Summer of Science Teacher Camp
END:VEVENT
END:VCALENDAR
