BEGIN:VCALENDAR
VERSION:2.0
PRODID:-//Squarespace Inc/Squarespace 6//v6//EN
BEGIN:VEVENT
UID:5e150576f51e496aaace219b@squarespace.com
DTSTAMP:20200107T223616Z
DTSTART:20200116T223000Z
DTEND:20200118T233000Z
SUMMARY:Soundsplash
END:VEVENT
END:VCALENDAR
